Workbook

Sheet 2015
B1: KEY: black = primary source data; blue = IOR estimate, analysis, and/or calculation
B2: January | C2: February | D2: March | E2: April | F2: May | G2: June | H2: July | I2: August | J2: September | K2: October | L2: November | M2: December | N2: Average | O2: Total
B3: 31 | C3: 28 | D3: 31 | E3: 30 | F3: 31 | G3: 30 | H3: 31 | I3: 31 | J3: 30 | K3: 31 | L3: 30 | M3: 31
A4: Total exports
A5: Federal + KRG exports (bbl) | B5: =B8+B46 -> 82584691 | C5: =C8+C46 -> 76463000 | D5: =D8+D46 -> 95994993 | E5: =E8+E46 -> 94179010 | F5: =F8+F46 -> 103455002 | G5: =G8+G46 -> 108231200 | H5: =H8+H46 -> 109935000 | I5: =I8+I46 -> 107936000 | ... M5: =M8+M46 -> 117750761 | N5: =O5/12 -> 1.0234609e+08 | O5: =SUM(B5:M5) -> 1228153097
A6: Federal + KRG exports (bpd) | B6: =B5/B3 -> 2664022.3 | C6: =C5/C3 -> 2730821.4 | D6: =D5/D3 -> 3096612.7 | E6: =E5/E3 -> 3139300.3 | F6: =F5/F3 -> 3337258.1 | G6: =G5/G3 -> 3607706.7 | H6: =H5/H3 -> 3546290.3 | I6: =I5/I3 -> 3481806.5 | ... M6: =M5/M3 -> 3798411.6 | N6: =O5/365 -> 3364803
A7: Federal exports
A8: Total federal exports (bbl) | B8: 78600000 | C8: 72700000 | D8: 92400000 | E8: 92300000 | F8: 97495000 | G8: =G16+G10 -> 95603190 | H8: 96245000 | I8: 95447000 | J8: 91552863 | K8: 83800000 | L8: 100945867 | M8: 99658761 | N8: =AVERAGE(B8:M8) -> 91395640 | O8: =SUM(B8:M8) -> 1096747681
A9: Total federal exports (bpd) | B9: =B8/B3 -> 2535483.9 | C9: =C8/C3 -> 2596428.6 | D9: =D8/D3 -> 2980645.2 | E9: =E8/E3 -> 3076666.7 | F9: =F8/F3 -> 3145000 | G9: =G8/G3 -> 3186773 | H9: =H8/H3 -> 3104677.4 | I9: =I8/I3 -> 3078935.5 | ... M9: =M8/M3 -> 3214798.7 | N9: =O8/365 -> 3004788.2
A10: Basra exports (bbl) | B10: 74100000 | C10: 64200000 | D10: 84100000 | E10: 78800000 | F10: 83510000 | G10: 90660000 | H10: 94980000 | I10: =I8-I16 -> 93656000 | J10: 90907227 | K10: =K8 -> 83800000 | L10: =L8 -> 100945867 | M10: 99658761 | N10: =AVERAGE(B10:M10) -> 86609821 | O10: =SUM(B10:M10) -> 1039317855
A11: Basra exports (bpd) | B11: =B10/B3 -> 2390322.6 | C11: =C10/C3 -> 2292857.1 | D11: =D10/D3 -> 2712903.2 | E11: =E10/E3 -> 2626666.7 | F11: =F10/F3 -> 2693871 | G11: =G10/G3 -> 3022000 | H11: =H10/H3 -> 3063871 | I11: =I10/I3 -> 3021161.3 | ... M11: =M10/M3 -> 3214798.7 | N11: =AVERAGE(B11:M11) -> 2844731.7
A12: Basra Light (bpd) | B12: =B11 -> 2390322.6 | C12: =C11 -> 2292857.1 | D12: =D11 -> 2712903.2 | E12: =E11 -> 2626666.7 | F12: =F11 -> 2693871 | G12: 2430000 | H12: =H11-H13 -> 2236871 | I12: =I11-I13 -> 2220161.3 | J12: =J11*0.722 -> 2187833.9 | K12: =K11*0.76 -> 2054451.6 | L12: =L9*0.75 -> 2523646.7 | M12: =M11-M13 -> 2443247 | N12: =AVERAGE(B12:M12) -> 2401069.3
A13: Basra Heavy (bpd) | B13: 0 | C13: 0 | D13: 0 | E13: 0 | F13: 0 | G13: 592000 | H13: 827000 | I13: 801000 | J13: =J11*0.278 -> 842406.97 | K13: =K11*0.24 -> 648774.19 | L13: =L9*0.25 -> 841215.56 | M13: =M11*0.24 -> 771551.7 | N13: =AVERAGE(B13:M13) -> 443662.37
A14: Crude loaded at SPMs (bpd) | B14: na | C14: na | D14: na | E14: 931000 | F14: 1020000 | G14: 1399 | H14: 1465000 | I14: 1368000 | J14: 1467000 | K14: 1228000 | L14: 1507000 | M14: 1408000
A15: Crude loaded at ABOT and KAAOT (bpd) | B15: na | C15: na | D15: na | E15: 1661000 | F15: 1580000 | G15: 1698000 | H15: 1616000 | I15: 1702000 | J15: 1515000 | K15: 1555000 | L15: 1720000 | M15: 1845000
A16: Federal exports via Ceyhan (bbl) | B16: 4495000 | C16: 8512000 | D16: 8308000 | E16: 13500000 | F16: 13981000 | G16: 4943190 | H16: 1260000 | I16: 1791000 | J16: 645000 | K16: 0 | L16: 0 | M16: 0 | N16: =AVERAGE(B16:M16) -> 4786265.8 | O16: =SUM(B16:M16) -> 57435190
A17: Federal exports via Ceyhan (bpd) | B17: =B16/B3 -> 145000 | C17: =C16/C3 -> 304000 | D17: =D16/D3 -> 268000 | E17: =E16/E3 -> 450000 | F17: =F16/F3 -> 451000 | G17: 164733 | H17: =H16/H3 -> 40645.161 | I17: =I16/I3 -> 57774.194 | J17: =J16/J3 -> 21500 | K17: 0 | L17: 0 | M17: 0 | N17: =AVERAGE(B17:M17) -> 158554.36
A18: Average SOMO sale price ($/bbl) | B18: 41.45 | C18: 47.43 | D18: 48.24 | E18: 51.7 | F18: 55.87 | G18: 55.32 | H18: 50.99 | I18: 41.099 | J18: 40.327 | K18: 39.26 | L18: 36.42 | M18: 29.835 | N18: =AVERAGE(B18:M18) -> 44.828417
A19: Average Kirkuk SOMO sale price ($/bbl) | B19: 45.11 | C19: 54.11 | D19: 50.24 | E19: 55.55 | F19: 58.42 | G19: 55.62 | H19: 50.99 | I19: 41.1 | J19: =J18 -> 40.327 | N19: =AVERAGE(B19:M19) -> 50.163
A20: Average Brent price | B20: ='Oil price'!C22 -> 47.7595 | C20: ='Oil price'!C42 -> 58.0955 | D20: ='Oil price'!C64 -> 55.885455 | E20: ='Oil price'!C85 -> 59.524286 | F20: ='Oil price'!C105 -> 64.075 | G20: ='Oil price'!C127 -> 61.477727 | H20: ='Oil price'!C150 -> 56.561304 | I20: ='Oil price'!C170 -> 46.515 | J20: ='Oil price'!C192 -> 47.623182 | K20: ='Oil price'!C214 -> 48.43 | L20: ='Oil price'!C235 -> 44.267619 | M20: ='Oil price'!C257 -> 38.005455
A21: Average SOMO discount vs. Brent ($) | B21: =B18-B20 -> -6.3095 | C21: =C18-C20 -> -10.6655 | D21: =D18-D20 -> -7.6454545 | E21: =E18-E20 -> -7.8242857 | F21: =F18-F20 -> -8.205 | G21: =G18-G20 -> -6.1577273 | H21: =H18-H20 -> -5.5713043 | I21: =I18-I20 -> -5.416 | ... M21: =M18-M20 -> -8.1704545
A22: Average SOMO discount vs. Brent (%) | B22: =B18/B20 -> 0.86789016 | C22: =C18/C20 -> 0.81641435 | D22: =D18/D20 -> 0.8631942 | E22: =E18/E20 -> 0.86855305 | F22: =F18/F20 -> 0.87194694 | G22: =G18/G20 -> 0.89983808 | H22: =H18/H20 -> 0.90149972 | I22: =I18/I20 -> 0.88356444 | ... M22: =M18/M20 -> 0.7850189
A23: Federal finances
A24: Total federal oil revenue ($) | B24: =B18*B8 -> 3257970000 | C24: =C18*C8 -> 3448161000 | D24: =D18*D8 -> 4457376000 | E24: =E18*E8 -> 4771910000 | F24: =F18*F8 -> 5447045650 | G24: =G18*G8 -> 5288768471 | H24: =H18*H8 -> 4907532550 | I24: =I18*I8 -> 3922776253 | J24: =J8*J18 -> 3692052306 | K24: =K18*K8 -> 3289988000 | L24: =L18*L8 -> 3676448476 | M24: =M18*M8 -> 2973319134 | N24: =AVERAGE(B24:M24) -> 4094445653 | O24: =SUM(B24:M24) -> 49133347841
A25: Total expenditures (IQD) | B25: 3634000000000 | C25: 4406423000000 | D25: 5193799000000 | E25: 5183325000000 | F25: 5081738000000 | G25: 5274168000000 | H25: no data | I25: no data | J25: no data | K25: no data | L25: no data | M25: no data | N25: =AVERAGE(B25:M25) -> 4795575500000 | O25: =SUM(B25:M25) -> 28773453000000
A26: Sovereign expenses (IQD) | B26: 709748000000 | C26: 565034000000 | D26: 1192773000000 | E26: 1504471000000 | F26: 1551233000000 | G26: 1942797000000 | H26: no data | I26: no data | J26: no data | K26: no data | L26: no data | M26: no data | N26: =AVERAGE(B26:M26) -> 1244342666667
A27: Sovereign expenses as % of total | B27: =B26/B25 -> 0.19530765 | C27: =C26/C25 -> 0.12822963 | D27: =D26/D25 -> 0.22965328 | E27: =E26/E25 -> 0.29025211 | F27: =F26/F25 -> 0.30525639 | G27: =G26/G25 -> 0.36836085 | H27: no data | I27: no data | J27: no data | K27: no data | L27: no data | M27: no data | N27: =AVERAGE(B27:M27) -> 0.25284332
A28: Ground forces expenditures (IQD) | B28: 244209000000 | C28: 248930000000 | D28: 294235000000 | E28: 263688000000 | F28: 270041000000 | G28: 287827000000 | H28: no data | I28: no data | J28: no data | K28: no data | L28: no data | M28: no data | N28: =AVERAGE(B28:M28) -> 268155000000
A29: KRG exports according to the KRG
A30: Pipeline throughput (bbl) | B30: 10957000 | C30: 12434000 | D30: 11317000 | E30: 16878985 | F30: 17906242 | G30: 17130639 | H30: 16019090 | I30: 14657798 | J30: 18614372 | K30: 18461357 | L30: 18023075 | M30: 18105734 | N30: =AVERAGE(B30:M30) -> 15875441 | O30: =SUM(B30:M30) -> 190505292
A31: Pipeline monthly average (bpd) | B31: =B30/B3 -> 353451.61 | C31: =C30/C3 -> 444071.43 | D31: =D30/D3 -> 365064.52 | E31: =E30/E3 -> 562632.83 | F31: =F30/F3 -> 577620.71 | G31: =G30/G3 -> 571021.3 | H31: =H30/H3 -> 516744.84 | I31: =I30/I3 -> 472832.19 | ... M31: =M30/M3 -> 584055.94 | N31: =AVERAGE(B31:M31) -> 522022.6
A32: Independent exports (bbl) | B32: =B30-B48 -> 6333691 | C32: =C30-C48 -> 3950000 | D32: =D30-D48 -> 2664993 | E32: 1931014 | F32: 5710947 | G32: 11893231 | H32: 15260470 | I32: 12118146 | J32: 18317419 | K32: =K30 -> 18461357 | L32: 17730683 | M32: 18406147 | N32: =AVERAGE(B32:M32) -> 11064842 | O32: =SUM(B32:M32) -> 132778098
A33: Independent exports (bpd) | B33: =B32/B3 -> 204312.61 | C33: =C32/C3 -> 141071.43 | D33: =D32/D3 -> 85967.516 | E33: =E32/E3 -> 64367.133 | F33: =F32/F3 -> 184224.1 | G33: =G32/G3 -> 396441.03 | H33: =H32/H3 -> 492273.23 | I33: =I32/I3 -> 390907.94 | J33: =J32/J3 -> 610580.63 | K33: =K31 -> 595527.65 | L33: =L32/L3 -> 591022.77 | M33: =M32/M3 -> 593746.68 | N33: =AVERAGE(B33:M33) -> 362536.89
A34: Transfers to SOMO (bbl) | B34: 5181179 | C34: 8177194 | D34: 8652007 | E34: 16026290 | F34: 12571890 | G34: 4493334 | H34: 2201540 | I34: 1579004 | J34: 0 | K34: 0 | L34: 0 | M34: 0 | N34: =AVERAGE(B34:M34) -> 4906869.8
A35: Transfers to SOMO (bpd) | B35: =B34/B3 -> 167134.81 | C35: =C34/C3 -> 292042.64 | D35: =D34/D3 -> 279097 | E35: =E34/E3 -> 534209.67 | F35: =F34/F3 -> 405544.84 | G35: =G34/G3 -> 149777.8 | H35: =H34/H3 -> 71017.419 | I35: =I34/I3 -> 50935.613 | J35: =J34/J3 -> 0 | K35: 0 | L35: 0 | M35: 0 | N35: =AVERAGE(B35:M35) -> 162479.98
A36: Pipeline exports from KRG-op fields (bbl) | B36: =B30-B38 -> 6462000 | C36: =C30-C38 -> 8234000 | D36: =D30-D38 -> 6791000 | E36: 12457371 | F36: 12620452 | G36: 12740711 | H36: 12020683 | I36: 10958817 | J36: 13898548 | K36: 13611252 | L36: 13023266 | M36: 13504536 | N36: =AVERAGE(B36:M36) -> 11360220 | O36: =SUM(B36:M36) -> 136322636
A37: Pipeline exports from KRG-op fields (bpd) | B37: =B36/B3 -> 208451.61 | C37: =C36/C3 -> 294071.43 | D37: =D36/D3 -> 219064.52 | E37: =E36/E3 -> 415245.7 | F37: =F36/F3 -> 407111.35 | G37: =G36/G3 -> 424690.37 | H37: =H36/H3 -> 387763.97 | I37: =I36/I3 -> 353510.23 | ... M37: =M36/M3 -> 435630.19 | N37: =AVERAGE(B37:M37) -> 373500.48
A38: Pipeline exports from NOC-op fields (bbl) | B38: =B39*B3 -> 4495000 | C38: =C39*C3 -> 4200000 | D38: =D39*D3 -> 4526000 | E38: 4421614 | F38: 5285790 | G38: 4389928 | H38: 3998407 | I38: 3698981 | J38: 4715794 | K38: 4850105 | L38: 4999809 | M38: 4601198 | N38: =AVERAGE(B38:M38) -> 4515218.8 | O38: =SUM(B38:M38) -> 54182626
A39: Pipeline exports from NOC-op fields (bpd) | B39: 145000 | C39: 150000 | D39: 146000 | E39: =E38/E3 -> 147387.13 | F39: =F38/F3 -> 170509.35 | G39: =G38/G3 -> 146330.93 | H39: =H38/H3 -> 128980.87 | I39: =I38/I3 -> 119321.97 | J39: =J38/J3 -> 157193.13 | K39: =K38/K3 -> 156455 | L39: =L38/L3 -> 166660.3 | M39: =M38/M3 -> 148425.74 | N39: =AVERAGE(B39:M39) -> 148522.04
A40: KRG obligation to SOMO | B40: 180645 | C40: 327679 | D40: 420967 | E40: 468333 | F40: 550000 | G40: 600000 | H40: 625000 | I40: 625000 | J40: 625000 | K40: 625000 | L40: 625000 | M40: 625000
...

Sheet Oil price
A1: GLOBAL OIL PRICE DATA
A2: Date | B2: Brent spot price FOB ($/bbl) | C2: Average monthly price
A3: 42006 | B3: 55.38
A4: 42009 | B4: 51.08
A5: 42010 | B5: 50.12
A6: 42011 | B6: 49.06
A7: 42012 | B7: 49.43
A8: 42013 | B8: 47.64
A9: 42016 | B9: 46.9
A10: 42017 | B10: 45.13
A11: 42018 | B11: 45.82
A12: 42019 | B12: 47.66
A13: 42020 | B13: 47.38
A14: 42024 | B14: 46.49
... A21: 42033 | B21: 46.61
A22: 42034 | B22: 47.52 | C22: =AVERAGE(B3:B22) -> 47.7595
A23: 42037 | B23: 51.74
A24: 42038 | B24: 54.41
A25: 42039 | B25: 55.07
A26: 42040 | B26: 55.98
A27: 42041 | B27: 55.88
A28: 42044 | B28: 57
A29: 42045 | B29: 55.79
A30: 42046 | B30: 53.48
A31: 42047 | B31: 56.23
A32: 42048 | B32: 60.33
A33: 42051 | B33: 61.57
A34: 42052 | B34: 60.78
... A41: 42061 | B41: 61.39
A42: 42062 | B42: 61.89 | C42: =AVERAGE(B23:B42) -> 58.0955
A43: 42065 | B43: 60.75
A44: 42066 | B44: 61.18
A45: 42067 | B45: 59.18
A46: 42068 | B46: 60.33
A47: 42069 | B47: 59.15
A48: 42072 | B48: 58.67
A49: 42073 | B49: 55.95
A50: 42074 | B50: 56.46
A51: 42075 | B51: 56.66
A52: 42076 | B52: 54.8
...
